BEGIN:VCALENDAR
VERSION:2.0
PRODID:-//APRENDE MÁS - ECPv6.15.14//NONSGML v1.0//EN
CALSCALE:GREGORIAN
METHOD:PUBLISH
X-ORIGINAL-URL:https://aprendemas.eafit.edu.co
X-WR-CALDESC:Eventos para APRENDE MÁS
REFRESH-INTERVAL;VALUE=DURATION:PT1H
X-Robots-Tag:noindex
X-PUBLISHED-TTL:PT1H
BEGIN:VTIMEZONE
TZID:America/New_York
BEGIN:DAYLIGHT
TZOFFSETFROM:-0500
TZOFFSETTO:-0400
TZNAME:EDT
DTSTART:20240310T070000
END:DAYLIGHT
BEGIN:STANDARD
TZOFFSETFROM:-0400
TZOFFSETTO:-0500
TZNAME:EST
DTSTART:20241103T060000
END:STANDARD
BEGIN:DAYLIGHT
TZOFFSETFROM:-0500
TZOFFSETTO:-0400
TZNAME:EDT
DTSTART:20250309T070000
END:DAYLIGHT
BEGIN:STANDARD
TZOFFSETFROM:-0400
TZOFFSETTO:-0500
TZNAME:EST
DTSTART:20251102T060000
END:STANDARD
BEGIN:DAYLIGHT
TZOFFSETFROM:-0500
TZOFFSETTO:-0400
TZNAME:EDT
DTSTART:20260308T070000
END:DAYLIGHT
BEGIN:STANDARD
TZOFFSETFROM:-0400
TZOFFSETTO:-0500
TZNAME:EST
DTSTART:20261101T060000
END:STANDARD
END:VTIMEZONE
BEGIN:VEVENT
DTSTART;TZID=America/New_York:20250908T140000
DTEND;TZID=America/New_York:20250908T153000
DTSTAMP:20260425T210812
CREATED:20250820T145631Z
LAST-MODIFIED:20250820T145631Z
UID:1265-1757340000-1757345400@aprendemas.eafit.edu.co
SUMMARY:El valor de tus decisiones
DESCRIPTION:
URL:https://teams.microsoft.com/l/meetup-join/19%3ameeting_MjU2ZWIxMjEtZTc3Mi00N2FkLWIzYjAtMmU1MGFhNjI2OTIy%40thread.v2/0?context=%7b%22Tid%22%3a%223c0bd4fe-1111-4d13-8e0c-7c33b9eb7581%22%2c%22Oid%22%3a%2204df384b-a6b4-437f-b6ea-bf49273cfda2%22%7d#new_tab
LOCATION:Virtual
END:VEVENT
BEGIN:VEVENT
DTSTART;TZID=America/New_York:20250905T160000
DTEND;TZID=America/New_York:20250905T173000
DTSTAMP:20260425T210812
CREATED:20250820T145438Z
LAST-MODIFIED:20250820T145438Z
UID:1264-1757088000-1757093400@aprendemas.eafit.edu.co
SUMMARY:ESTRATEGIA HABILIDADES PARA LA VIDA - El poder de las relaciones en mi vida
DESCRIPTION:
URL:https://teams.microsoft.com/l/meetup-join/19%3ameeting_MWYyZTQyNTQtNTA1Zi00OGZkLThjNGUtNmYyNWZkZTRiNjFk%40thread.v2/0?context=%7b%22Tid%22%3a%223c0bd4fe-1111-4d13-8e0c-7c33b9eb7581%22%2c%22Oid%22%3a%2204df384b-a6b4-437f-b6ea-bf49273cfda2%22%7d#new_tab
LOCATION:Virtual
END:VEVENT
BEGIN:VEVENT
DTSTART;TZID=America/New_York:20250901T130000
DTEND;TZID=America/New_York:20250901T150000
DTSTAMP:20260425T210812
CREATED:20250820T143021Z
LAST-MODIFIED:20250901T153538Z
UID:1258-1756731600-1756738800@aprendemas.eafit.edu.co
SUMMARY:Inteligencia Artificial para el diseño de experiencias de aprendizaje
DESCRIPTION:
URL:https://forms.office.com/r/9FzXaJR0ae#new_tab
LOCATION:Presencial
END:VEVENT
BEGIN:VEVENT
DTSTART;TZID=America/New_York:20250901T100000
DTEND;TZID=America/New_York:20250901T113000
DTSTAMP:20260425T210812
CREATED:20250820T145300Z
LAST-MODIFIED:20250820T145300Z
UID:1263-1756720800-1756726200@aprendemas.eafit.edu.co
SUMMARY:ESTRATEGIA HABILIDADES PARA LA VIDA - Me conecto con el otro\, soy empático
DESCRIPTION:
URL:https://teams.microsoft.com/l/meetup-join/19%3ameeting_M2QzOWQ1YTktMzA3Ny00ZjhlLTk3MzAtZjlmMzdjODE1MjJl%40thread.v2/0?context=%7b%22Tid%22%3a%223c0bd4fe-1111-4d13-8e0c-7c33b9eb7581%22%2c%22Oid%22%3a%228a5b59b5-496c-48dd-bfe5-c88bdc23dd95%22%7d#new_tab
LOCATION:Virtual
END:VEVENT
BEGIN:VEVENT
DTSTART;TZID=America/New_York:20250829T080000
DTEND;TZID=America/New_York:20250829T093000
DTSTAMP:20260425T210812
CREATED:20250806T142920Z
LAST-MODIFIED:20250806T142920Z
UID:1239-1756454400-1756459800@aprendemas.eafit.edu.co
SUMMARY:¿Cómo las emociones impactan las finanzas?
DESCRIPTION:
URL:https://teams.microsoft.com/l/meetup-join/19%3ameeting_YWE5MDgxZjYtMGZjNy00M2U3LWIxMzktN2ExMGI2M2EzODAz%40thread.v2/0?context=%7b%22Tid%22%3a%223c0bd4fe-1111-4d13-8e0c-7c33b9eb7581%22%2c%22Oid%22%3a%228a5b59b5-496c-48dd-bfe5-c88bdc23dd95%22%7d#new_tab
LOCATION:Virtual
END:VEVENT
BEGIN:VEVENT
DTSTART;TZID=America/New_York:20250828T170000
DTEND;TZID=America/New_York:20250828T190000
DTSTAMP:20260425T210812
CREATED:20250806T142607Z
LAST-MODIFIED:20250806T142607Z
UID:1238-1756400400-1756407600@aprendemas.eafit.edu.co
SUMMARY:Interactiva: Banco de preguntas\, cuestionarios\, creación de grupos
DESCRIPTION:
URL:https://events.teams.microsoft.com/event/5c140a7b-6185-478b-bb48-6c31d4ee0fa7@99f7b55e-9cbe-467b-8143-919782918afb#new_tab
LOCATION:Virtual
END:VEVENT
BEGIN:VEVENT
DTSTART;TZID=America/New_York:20250828T100000
DTEND;TZID=America/New_York:20250828T110000
DTSTAMP:20260425T210812
CREATED:20250820T142724Z
LAST-MODIFIED:20250820T142724Z
UID:1257-1756375200-1756378800@aprendemas.eafit.edu.co
SUMMARY:IA en el ámbito académico: consideraciones éticas y el camino hacia un uso responsable
DESCRIPTION:
URL:https://events.teams.microsoft.com/event/81151ae9-8856-42a6-b043-fa1012abec65@99f7b55e-9cbe-467b-8143-919782918afb#new_tab
LOCATION:Virtual
END:VEVENT
BEGIN:VEVENT
DTSTART;TZID=America/New_York:20250827T140000
DTEND;TZID=America/New_York:20250827T153000
DTSTAMP:20260425T210812
CREATED:20250820T142608Z
LAST-MODIFIED:20250820T142608Z
UID:1256-1756303200-1756308600@aprendemas.eafit.edu.co
SUMMARY:Conexiones en la literatura científica: visualización de datos de investigación.
DESCRIPTION:
URL:https://forms.office.com/r/TFRuiMsif5#new_tab
LOCATION:Presencial
END:VEVENT
BEGIN:VEVENT
DTSTART;TZID=America/New_York:20250826T110000
DTEND;TZID=America/New_York:20250826T120000
DTSTAMP:20260425T210812
CREATED:20250806T142428Z
LAST-MODIFIED:20250806T142428Z
UID:1237-1756206000-1756209600@aprendemas.eafit.edu.co
SUMMARY:Introducción a Diálogos Digitales en el Aula
DESCRIPTION:
URL:https://events.teams.microsoft.com/event/4cfe946b-aab7-4755-bc63-b080a15342be@99f7b55e-9cbe-467b-8143-919782918afb#new_tab
LOCATION:Virtual
END:VEVENT
BEGIN:VEVENT
DTSTART;TZID=America/New_York:20250825T150000
DTEND;TZID=America/New_York:20250825T160000
DTSTAMP:20260425T210812
CREATED:20250820T142410Z
LAST-MODIFIED:20250820T144912Z
UID:1254-1756134000-1756137600@aprendemas.eafit.edu.co
SUMMARY:Panel de expertos: Inteligencia artificial en educación
DESCRIPTION:
URL:https://aprendemas.eafit.edu.co/event/panel-de-expertos-inteligencia-artificial-en-educacion
LOCATION:Presencial\, Auditorio Fundadores
END:VEVENT
BEGIN:VEVENT
DTSTART;TZID=America/New_York:20250825T140000
DTEND;TZID=America/New_York:20250825T150000
DTSTAMP:20260425T210812
CREATED:20250820T142221Z
LAST-MODIFIED:20250820T144840Z
UID:1253-1756130400-1756134000@aprendemas.eafit.edu.co
SUMMARY:Inteligencia Artificial: desafios con propósito y potencial
DESCRIPTION:
URL:https://aprendemas.eafit.edu.co/event/inteligencia-artificial-desafios-con-proposito-y-potencial
LOCATION:Presencial\, Auditorio Fundadores
END:VEVENT
BEGIN:VEVENT
DTSTART;TZID=America/New_York:20250825T100000
DTEND;TZID=America/New_York:20250825T110000
DTSTAMP:20260425T210812
CREATED:20250820T142038Z
LAST-MODIFIED:20250820T142038Z
UID:1250-1756116000-1756119600@aprendemas.eafit.edu.co
SUMMARY:Docentes aumentados\, estudiantes potenciados: nuevas narrativas con inteligencia artificial generativa
DESCRIPTION:
URL:https://aprendemas.eafit.edu.co/event/docentes-aumentados-estudiantes-potenciados-nuevas-narrativas-con-inteligencia-artificial-generativa
LOCATION:Presencial\, Auditorio Fundadores
END:VEVENT
BEGIN:VEVENT
DTSTART;TZID=America/New_York:20250822T090000
DTEND;TZID=America/New_York:20250822T113000
DTSTAMP:20260425T210812
CREATED:20250806T142236Z
LAST-MODIFIED:20250806T142236Z
UID:1236-1755853200-1755862200@aprendemas.eafit.edu.co
SUMMARY:Herramientas de IA para profesores
DESCRIPTION:
URL:https://events.teams.microsoft.com/event/add22199-fc85-4f26-b2ec-2c6503462647@99f7b55e-9cbe-467b-8143-919782918afb#new_tab
LOCATION:Virtual
END:VEVENT
BEGIN:VEVENT
DTSTART;TZID=America/New_York:20250821T160000
DTEND;TZID=America/New_York:20250821T164500
DTSTAMP:20260425T210812
CREATED:20250806T142043Z
LAST-MODIFIED:20250806T142043Z
UID:1235-1755792000-1755794700@aprendemas.eafit.edu.co
SUMMARY:Un Recorrido por Nuestras Emociones
DESCRIPTION:
URL:https://teams.microsoft.com/l/meetup-join/19%3ameeting_OTVhZDI0YzItMWE1OC00ZGU0LWI2MTMtNTUwZTRhNmJlNmJh%40thread.v2/0?context=%7b%22Tid%22%3a%223c0bd4fe-1111-4d13-8e0c-7c33b9eb7581%22%2c%22Oid%22%3a%228a5b59b5-496c-48dd-bfe5-c88bdc23dd95%22%7d#new_tab
LOCATION:Virtual
END:VEVENT
BEGIN:VEVENT
DTSTART;TZID=America/New_York:20250819T160000
DTEND;TZID=America/New_York:20250819T170000
DTSTAMP:20260425T210812
CREATED:20250806T141857Z
LAST-MODIFIED:20250806T141857Z
UID:1234-1755619200-1755622800@aprendemas.eafit.edu.co
SUMMARY:ESTRATEGIA HABILIDADES PARA LA VIDA - Conócete a ti mismo
DESCRIPTION:
URL:https://teams.microsoft.com/l/meetup-join/19%3ameeting_ODBlMjdhZDItYTk3MC00OWFmLThlYTMtYzE2MTE1ZjlhNzA4%40thread.v2/0?context=%7b%22Tid%22%3a%223c0bd4fe-1111-4d13-8e0c-7c33b9eb7581%22%2c%22Oid%22%3a%228a5b59b5-496c-48dd-bfe5-c88bdc23dd95%22%7d#new_tab
LOCATION:Virtual
END:VEVENT
BEGIN:VEVENT
DTSTART;TZID=America/New_York:20250814T170000
DTEND;TZID=America/New_York:20250814T190000
DTSTAMP:20260425T210812
CREATED:20250806T133620Z
LAST-MODIFIED:20250806T133620Z
UID:1229-1755190800-1755198000@aprendemas.eafit.edu.co
SUMMARY:Uso básico de IA para el ámbito educativo
DESCRIPTION:
URL:https://events.teams.microsoft.com/event/22c34533-08f1-44aa-921f-d4306dead002@99f7b55e-9cbe-467b-8143-919782918afb#new_tab
LOCATION:Virtual
END:VEVENT
BEGIN:VEVENT
DTSTART;TZID=America/New_York:20250812T070000
DTEND;TZID=America/New_York:20250812T090000
DTSTAMP:20260425T210812
CREATED:20250806T133213Z
LAST-MODIFIED:20250806T133213Z
UID:1228-1754982000-1754989200@aprendemas.eafit.edu.co
SUMMARY:¿Cómo desarrollar competencias de lectura y escritura con uso de IA?
DESCRIPTION:
URL:https://events.teams.microsoft.com/event/64b985b5-1b5e-4bc4-901d-524335f65e8c@99f7b55e-9cbe-467b-8143-919782918afb#new_tab
LOCATION:Virtual
END:VEVENT
BEGIN:VEVENT
DTSTART;TZID=America/New_York:20250806T140000
DTEND;TZID=America/New_York:20250806T153000
DTSTAMP:20260425T210812
CREATED:20250725T131553Z
LAST-MODIFIED:20250725T131553Z
UID:1223-1754488800-1754494200@aprendemas.eafit.edu.co
SUMMARY:ESTRATEGIA HABILIDADES PARA LA VIDA - Manejo de problemas y conflictos
DESCRIPTION:
URL:https://teams.microsoft.com/l/meetup-join/19%3ameeting_MDEyNDhlYzAtYTQ2Ny00MWVhLThmZWUtODhkODkwMWE5NDAy%40thread.v2/0?context=%7b%22Tid%22%3a%223c0bd4fe-1111-4d13-8e0c-7c33b9eb7581%22%2c%22Oid%22%3a%228a5b59b5-496c-48dd-bfe5-c88bdc23dd95%22%7d#new_tab
LOCATION:Virtual
END:VEVENT
BEGIN:VEVENT
DTSTART;TZID=America/New_York:20250805T080000
DTEND;TZID=America/New_York:20250805T100000
DTSTAMP:20260425T210812
CREATED:20250725T131305Z
LAST-MODIFIED:20250725T131305Z
UID:1220-1754380800-1754388000@aprendemas.eafit.edu.co
SUMMARY:Fundamentos de Aprendizaje Experiencial
DESCRIPTION:
URL:https://events.teams.microsoft.com/event/3540fc11-a592-4db2-a1e5-23233432af4e@99f7b55e-9cbe-467b-8143-919782918afb#new_tab
LOCATION:Virtual
END:VEVENT
BEGIN:VEVENT
DTSTART;TZID=America/New_York:20250805T080000
DTEND;TZID=America/New_York:20250805T093000
DTSTAMP:20260425T210812
CREATED:20250725T131510Z
LAST-MODIFIED:20250725T131510Z
UID:1222-1754380800-1754386200@aprendemas.eafit.edu.co
SUMMARY:Mi cuerpo en relación con el trabajo; Pausa\, posturas\, hidratación y estilos de vida saludable
DESCRIPTION:
URL:https://teams.microsoft.com/l/meetup-join/19%3ameeting_YmI4MmEzODgtMmU1Yy00NmYwLWI2ZmUtODE0M2MxM2NkNTgy%40thread.v2/0?context=%7b%22Tid%22%3a%223c0bd4fe-1111-4d13-8e0c-7c33b9eb7581%22%2c%22Oid%22%3a%228a5b59b5-496c-48dd-bfe5-c88bdc23dd95%22%7d#new_tab
LOCATION:Virtual
END:VEVENT
BEGIN:VEVENT
DTSTART;TZID=America/New_York:20250804T170000
DTEND;TZID=America/New_York:20250804T190000
DTSTAMP:20260425T210812
CREATED:20250725T131217Z
LAST-MODIFIED:20250725T131217Z
UID:1219-1754326800-1754334000@aprendemas.eafit.edu.co
SUMMARY:Interactiva: Configuración del libro de calificaciones
DESCRIPTION:
URL:https://events.teams.microsoft.com/event/0a15d4a6-ec0e-467f-9d6d-6956e257c1b0@99f7b55e-9cbe-467b-8143-919782918afb#new_tab
LOCATION:Virtual
END:VEVENT
BEGIN:VEVENT
DTSTART;TZID=America/New_York:20250804T080000
DTEND;TZID=America/New_York:20250804T213000
DTSTAMP:20260425T210812
CREATED:20250725T131415Z
LAST-MODIFIED:20250725T131415Z
UID:1221-1754294400-1754343000@aprendemas.eafit.edu.co
SUMMARY:Dormir bien\, una manera de estar en conexión con los desafíos de la cotidianidad
DESCRIPTION:
URL:https://teams.microsoft.com/l/meetup-join/19%3ameeting_OTcxNzA3YTktZjE3ZS00Yjc4LTk1M2QtODMyODEzY2QzNDU5%40thread.v2/0?context=%7b%22Tid%22%3a%223c0bd4fe-1111-4d13-8e0c-7c33b9eb7581%22%2c%22Oid%22%3a%228a5b59b5-496c-48dd-bfe5-c88bdc23dd95%22%7d#new_tab
LOCATION:Virtual
END:VEVENT
BEGIN:VEVENT
DTSTART;TZID=America/New_York:20250801T160000
DTEND;TZID=America/New_York:20250801T173000
DTSTAMP:20260425T210812
CREATED:20250725T131104Z
LAST-MODIFIED:20250725T131104Z
UID:1218-1754064000-1754069400@aprendemas.eafit.edu.co
SUMMARY:ESTRATEGIA HABILIDADES PARA LA VIDA - La magia de comunicarnos bien
DESCRIPTION:
URL:https://teams.microsoft.com/l/meetup-join/19%3ameeting_ZjRjZDI4ZGQtYjk0MS00NGZmLThjODUtNGQ1NGUzOTBmY2Rj%40thread.v2/0?context=%7b%22Tid%22%3a%223c0bd4fe-1111-4d13-8e0c-7c33b9eb7581%22%2c%22Oid%22%3a%228a5b59b5-496c-48dd-bfe5-c88bdc23dd95%22%7d#new_tab
LOCATION:Virtual
END:VEVENT
BEGIN:VEVENT
DTSTART;TZID=America/New_York:20250731T180000
DTEND;TZID=America/New_York:20250731T193000
DTSTAMP:20260425T210812
CREATED:20250617T125316Z
LAST-MODIFIED:20250617T125316Z
UID:1151-1753984800-1753990200@aprendemas.eafit.edu.co
SUMMARY:Conversar sobre neuroaprendizaje: Uncommon Sense Teaching
DESCRIPTION:
URL:https://forms.office.com/r/F4qL0YMUWT#new_tab
LOCATION:Presencial
END:VEVENT
BEGIN:VEVENT
DTSTART;TZID=America/New_York:20250730T160000
DTEND;TZID=America/New_York:20250730T173000
DTSTAMP:20260425T210812
CREATED:20250710T072056Z
LAST-MODIFIED:20250710T072056Z
UID:1169-1753891200-1753896600@aprendemas.eafit.edu.co
SUMMARY:El valor de tus decisiones
DESCRIPTION:
URL:https://teams.microsoft.com/l/meetup-join/19%3ameeting_NjdmY2E1NGQtYzBmZi00ODVmLTkzZmMtYmQwYTg3ODA3OTg1%40thread.v2/0?context=%7b%22Tid%22%3a%223c0bd4fe-1111-4d13-8e0c-7c33b9eb7581%22%2c%22Oid%22%3a%228a5b59b5-496c-48dd-bfe5-c88bdc23dd95%22%7d#new_tab
END:VEVENT
BEGIN:VEVENT
DTSTART;TZID=America/New_York:20250730T140000
DTEND;TZID=America/New_York:20250730T150000
DTSTAMP:20260425T210812
CREATED:20250710T071933Z
LAST-MODIFIED:20250710T071933Z
UID:1168-1753884000-1753887600@aprendemas.eafit.edu.co
SUMMARY:¿Qué debo comer en pro de mi salud? Herramientas para una alimentación saludable
DESCRIPTION:
URL:https://teams.microsoft.com/l/meetup-join/19%3ameeting_MmNjNmE2NmUtOWZlYS00ZDlhLThiNjYtMmMyOWI3NGJkNDMy%40thread.v2/0?context=%7b%22Tid%22%3a%223c0bd4fe-1111-4d13-8e0c-7c33b9eb7581%22%2c%22Oid%22%3a%228a5b59b5-496c-48dd-bfe5-c88bdc23dd95%22%7d#new_tab
LOCATION:Virtual
END:VEVENT
BEGIN:VEVENT
DTSTART;TZID=America/New_York:20250730T100000
DTEND;TZID=America/New_York:20250730T120000
DTSTAMP:20260425T210812
CREATED:20250617T125100Z
LAST-MODIFIED:20250617T125100Z
UID:1150-1753869600-1753876800@aprendemas.eafit.edu.co
SUMMARY:¿Cómo desarrollar competencias de lectura y escritura con uso de IA?
DESCRIPTION:
URL:https://forms.office.com/r/swAZCuj4er#new_tab
LOCATION:Presencial
END:VEVENT
BEGIN:VEVENT
DTSTART;TZID=America/New_York:20250729T170000
DTEND;TZID=America/New_York:20250729T180000
DTSTAMP:20260425T210812
CREATED:20250617T125011Z
LAST-MODIFIED:20250617T125143Z
UID:1149-1753808400-1753812000@aprendemas.eafit.edu.co
SUMMARY:Webinar: Aprendizaje Basado en Proyectos
DESCRIPTION:
URL:https://events.teams.microsoft.com/event/8bf5b497-9717-4a01-bbcb-66dda9aed70b@99f7b55e-9cbe-467b-8143-919782918afb#new_tab
LOCATION:Virtual
END:VEVENT
BEGIN:VEVENT
DTSTART;TZID=America/New_York:20250728T130000
DTEND;TZID=America/New_York:20250728T150000
DTSTAMP:20260425T210812
CREATED:20250617T124839Z
LAST-MODIFIED:20250617T124839Z
UID:1148-1753707600-1753714800@aprendemas.eafit.edu.co
SUMMARY:Inteligencia Artificial para el diseño de experiencias de aprendizaje
DESCRIPTION:
URL:https://events.teams.microsoft.com/event/2e77efed-e4b3-4bd5-b3f9-042b5ce1db49@99f7b55e-9cbe-467b-8143-919782918afb#new_tab
LOCATION:Virtual
END:VEVENT
BEGIN:VEVENT
DTSTART;TZID=America/New_York:20250725T080000
DTEND;TZID=America/New_York:20250725T100000
DTSTAMP:20260425T210812
CREATED:20250617T124736Z
LAST-MODIFIED:20250617T124736Z
UID:1147-1753430400-1753437600@aprendemas.eafit.edu.co
SUMMARY:¿Cómo desarrollar competencias de lectura y escritura con uso de IA?
DESCRIPTION:
URL:https://forms.office.com/r/WihGFADwGB#new_tab
LOCATION:Presencial
END:VEVENT
END:VCALENDAR